BEGIN:VCALENDAR
VERSION:2.0
PRODID:-//Paris, je te quitte - ECPv6.15.20//NONSGML v1.0//EN
CALSCALE:GREGORIAN
METHOD:PUBLISH
X-ORIGINAL-URL:https://paris-jetequitte.com
X-WR-CALDESC:Évènements pour Paris, je te quitte
REFRESH-INTERVAL;VALUE=DURATION:PT1H
X-Robots-Tag:noindex
X-PUBLISHED-TTL:PT1H
BEGIN:VTIMEZONE
TZID:Europe/Paris
BEGIN:DAYLIGHT
TZOFFSETFROM:+0100
TZOFFSETTO:+0200
TZNAME:CEST
DTSTART:20240331T010000
END:DAYLIGHT
BEGIN:STANDARD
TZOFFSETFROM:+0200
TZOFFSETTO:+0100
TZNAME:CET
DTSTART:20241027T010000
END:STANDARD
BEGIN:DAYLIGHT
TZOFFSETFROM:+0100
TZOFFSETTO:+0200
TZNAME:CEST
DTSTART:20250330T010000
END:DAYLIGHT
BEGIN:STANDARD
TZOFFSETFROM:+0200
TZOFFSETTO:+0100
TZNAME:CET
DTSTART:20251026T010000
END:STANDARD
BEGIN:DAYLIGHT
TZOFFSETFROM:+0100
TZOFFSETTO:+0200
TZNAME:CEST
DTSTART:20260329T010000
END:DAYLIGHT
BEGIN:STANDARD
TZOFFSETFROM:+0200
TZOFFSETTO:+0100
TZNAME:CET
DTSTART:20261025T010000
END:STANDARD
END:VTIMEZONE
BEGIN:VEVENT
DTSTART;TZID=Europe/Paris:20251113T090000
DTEND;TZID=Europe/Paris:20251113T180000
DTSTAMP:20260423T162602
CREATED:20251017T094045Z
LAST-MODIFIED:20251017T094045Z
UID:46617-1763024400-1763056800@paris-jetequitte.com
SUMMARY:Salon Nouvelle Vie Pro 2025
DESCRIPTION:Marre de la routine parisienne ? Un rêve qui sommeille\, des projets en tête mais un peu perdus sur comment franchir le cap ? Retrouvons-nous sur le salon Nouvelle Vie Professionnelle\, jeudi 13 novembre de 9h à 18h à l’espace Champéret à Paris pour en discuter ! \nJe télécharge mon invitation!\n\nPour cette 3e année\, l’équipe Paris je te quitte réunit 7 territoires\, venus de toute la France sur le Tour des Régions de Paris je te quitte\, un village dédié à la mobilité\, au cœur du salon incontournable de la reconversion ! \nSi vous ne connaissez pas encore\, Nouvelle Vie Pro\, c’est le salon de référence pour faire le point sur vos envies\, vos objectifs et bénéficier des conseils d’experts pour transformer votre carrière ! Au programme\, 7 espaces thématiques pensés pour répondre à toutes vos questions\, vous aider à faire le point sur vos envies et objectifs pros\, vous informer sur l’offre de formation\, découvrir de nouveaux métiers\, vous accompagner dans votre projet de reprise ou de création d’entreprise\, ainsi qu’un village dédié aux 50 ans et plus\, parce qu’il n’y a pas d’âge pour rebondir ! \nSur cette nouvelle édition du Tour des Régions de Paris je te quitte\, vous pourrez rencontrer des spécialistes du changement de vie et de l’installation en région et être accompagné concrètement dans votre projet. Vous savez déjà où vous souhaitez aller ? Inscrivez-vous pour rencontrer les acteurs du territoire que vous convoitez ! Vous hésitez encore ? C’est le moment\, de découvrir ceux qui seront à nos côtés le jeudi 13 novembre et de vous laisser inspirer : \n\n\n\nLe Département de la Côte-d’or\nL’agglomération de Saintes\nLe Département de l’Indre\nLe territoire de Quimper Cornouaille\nLe Département de la Haute-Marne\nLe territoire de Saint-Pierre-et-Miquelon\nLe département de l’Ain\n\n\n\nDes conseillers de chaque territoire\, répondront à vos questions et auront à cœur de vous présenter le marché de l’emploi local\, les opportunités d’emplois et d’entrepreneuriat ainsi que la vie que vous pourriez mener en quittant Paris ! \nDes conférences\, des coachs et des experts seront disponibles tout au long de la journée et des ateliers de sophrologie et des conseils pour booster votre CV\, seront également propos. Enfin\, vous pourrez écouter les témoignages inspirants de ceux qui ont osé sauter le pas et ainsi mesurer à quel point ce rêve est vôtre à portée ! \nS’il y a un évènement ne pas manquer en novembre\, c’est bien cette opportunité unique de nous rencontrer et de concrétiser votre nouvelle vie après Paris ! Inscrivez-vous sans attendre !
URL:https://paris-jetequitte.com/evenement/agenda-nvp-2025/
LOCATION:Espace Champerret\, Paris\, 6 Rue Jean Oestreicher\, PARIS\, 75017
ATTACH;FMTTYPE=image/png:https://paris-jetequitte.com/wp-content/uploads/2025/10/Post-partenaires-NVP-FB-PJTQ.png
END:VEVENT
BEGIN:VEVENT
DTSTART;VALUE=DATE:20251121
DTEND;VALUE=DATE:20251123
DTSTAMP:20260423T162602
CREATED:20251023T123959Z
LAST-MODIFIED:20251103T094028Z
UID:46695-1763683200-1763855999@paris-jetequitte.com
SUMMARY:Rencontrez votre futur employeur haut-marnais… à Paris !
DESCRIPTION:Envie d’un nouveau départ ? La Haute-Marne pourrait bien cocher toutes les cases\, emploi compris.Les 21 et 22 novembre\, la Haute-Marne vient à votre rencontre à Paris pour un job dating pas comme les autres. CDI\, CDD\, alternance : plus d’une dizaine d’employeurs vous attendent dans des secteurs aussi variés que l’automobile\, la santé\, le tertiaire\, l’agriculture ou la fonction publique. \n📍 Rendez-vous à La Fabrique événementielle (Paris 10e) pour explorer des opportunités concrètes\, parler directement avec les recruteurs… et peut-être faire le premier pas vers une nouvelle vie en région. \nJe m’inscris gratuitement !\nUn job aujourd’hui\, une vie plus verte demain ?\nEn Haute-Marne\, ce sont des entreprises qui recrutent\, mais aussi un cadre de vie qui se propose. Nature omniprésente\, immobilier accessible\, quotidien plus doux : ici\, on respire autant qu’on travaille. Vous hésitez ? Venez discuter avec l’équipe de la conciergerie de la Haute-Marne\, un service gratuit qui vous accompagne dans toutes les étapes de votre installation : logement\, emploi du conjoint\, mode de garde\, scolarité… \nLe plus ? L’équipe de la Haute-Marne sera présente sur place pendant l’événement pour répondre à toutes vos questions ! \nPourquoi venir ?\n\nDes offres concrètes dans des secteurs qui embauchent\, sur tout le territoire haut-marnais\nDes recruteurs sur place\, prêts à échanger directement avec vous\nUn accompagnement sur-mesure si vous décidez de vous installer\nUn espace dédié aux cadres\, le vendredi en fin de journée\n\n  \nInfos pratiques\nLieu :The place to… Gare de l’Est \n129 rue du Faubourg Saint-Martin\, 75010 Paris \nDates et horaires :Vendredi 21 novembre 2025 : 14h00 – 21h00  → Temps fort “cadres” : 18h00 – 21h00Samedi 22 novembre 2025 : 10h00 – 16h00 \nEntrée gratuiteInscription ici
URL:https://paris-jetequitte.com/evenement/jobdating-haute-marne-novembre-2025/
LOCATION:The place to… Gare de l’Est\, 129 rue du Faubourg Saint-Martin\, Paris\, 75010
CATEGORIES:Jobdating
ATTACH;FMTTYPE=image/png:https://paris-jetequitte.com/wp-content/uploads/2025/10/Job-dating-Haute-Marne.png
END:VEVENT
END:VCALENDAR