BEGIN:VCALENDAR
VERSION:2.0
PRODID:-//Paris, je te quitte - ECPv6.15.20//NONSGML v1.0//EN
CALSCALE:GREGORIAN
METHOD:PUBLISH
X-WR-CALNAME:Paris, je te quitte
X-ORIGINAL-URL:https://paris-jetequitte.com
X-WR-CALDESC:Évènements pour Paris, je te quitte
REFRESH-INTERVAL;VALUE=DURATION:PT1H
X-Robots-Tag:noindex
X-PUBLISHED-TTL:PT1H
BEGIN:VTIMEZONE
TZID:Europe/Paris
BEGIN:DAYLIGHT
TZOFFSETFROM:+0100
TZOFFSETTO:+0200
TZNAME:CEST
DTSTART:20250330T010000
END:DAYLIGHT
BEGIN:STANDARD
TZOFFSETFROM:+0200
TZOFFSETTO:+0100
TZNAME:CET
DTSTART:20251026T010000
END:STANDARD
BEGIN:DAYLIGHT
TZOFFSETFROM:+0100
TZOFFSETTO:+0200
TZNAME:CEST
DTSTART:20260329T010000
END:DAYLIGHT
BEGIN:STANDARD
TZOFFSETFROM:+0200
TZOFFSETTO:+0100
TZNAME:CET
DTSTART:20261025T010000
END:STANDARD
BEGIN:DAYLIGHT
TZOFFSETFROM:+0100
TZOFFSETTO:+0200
TZNAME:CEST
DTSTART:20270328T010000
END:DAYLIGHT
BEGIN:STANDARD
TZOFFSETFROM:+0200
TZOFFSETTO:+0100
TZNAME:CET
DTSTART:20271031T010000
END:STANDARD
END:VTIMEZONE
BEGIN:VEVENT
DTSTART;TZID=Europe/Paris:20260122T100000
DTEND;TZID=Europe/Paris:20260123T180000
DTSTAMP:20260423T124216
CREATED:20251210T155114Z
LAST-MODIFIED:20251210T155114Z
UID:48359-1769076000-1769191200@paris-jetequitte.com
SUMMARY:Salon du Travail et de la Mobilité
DESCRIPTION:Cette année encore\, nous vous donnons rendez-vous sur le Salon du Travail et de la Mobilité à la Grande Halle de La Villette Paris ! Rendez-vous les jeudi 22 et vendredi 23 janvier pour deux jours de salon\, plus de 90 conférences et ateliers pratiques\, et plus de 120 d’exposants pour vous accompagner dans la concrétisation de votre futur projet. \nJe m’inscris gratuitement\n \nAu programme 5 villages thématiques dédiés à l’emploi\, à la formation\, à l’entrepreneuriat et bien sûr à la mobilité sur lequel l’équipe Paris je te quitte sera présente aux côtés de nombreux territoires partenaires ! \nPour y participer\, une seule chose à faire\, télécharger gratuitement votre billet et venir nous rencontrer à Paris\, les 22 et 23 janvier ! \n 
URL:https://paris-jetequitte.com/evenement/salon-du-travail-et-de-la-mobilite-3/
LOCATION:Grande Halle de La Villette
ATTACH;FMTTYPE=image/png:https://paris-jetequitte.com/wp-content/uploads/2025/12/banniere-1920x1080-SDT-Paris-2026.png
END:VEVENT
END:VCALENDAR